BEGIN:VCALENDAR
VERSION:2.0
PRODID:-//OmniMagnetCalendar//EN
BEGIN:VEVENT
DTSTAMP:20190625T195740Z
STATUS:CONFIRMED
UID:hcstlouis.clubs.harvard.edu235
DTSTART:20181018T213000Z
DTEND:20181018T233000Z
LOCATION:Urban Chestnut Grove Brewery and Bierhall, 4465 Manchester Ave., St. Louis, MO, 63110,
SUMMARY:Welcome to Your City
DESCRIPTION:
BEGIN:VALARM
TRIGGER:-PT15M
ACTION:DISPLAY
END:VALARM
TRANSP:OPAQUE
END:VEVENT
END:VCALENDAR
