BEGIN:VCALENDAR
VERSION:2.0
PRODID:-//OmniMagnetCalendar//EN
BEGIN:VEVENT
DTSTAMP:20190625T195740Z
STATUS:CONFIRMED
UID:hcstlouis.clubs.harvard.edu231
DTSTART:20180412T223000Z
DTEND:20180413T010000Z
LOCATION:St. Louis Community College at Forest Park, 5600 Oakland Ave., St. Louis, MO, 63110,
SUMMARY:Educational Disparities in St. Louis
DESCRIPTION:Educational Disparities in St. Louis: Challenges and Opportunities, an initial event in a series organized by the Harvard Club of St. Louis, took place on 4/12/18, at the Student Center Café on the Forest Park campus of St. Louis Community College.
BEGIN:VALARM
TRIGGER:-PT15M
ACTION:DISPLAY
END:VALARM
TRANSP:OPAQUE
END:VEVENT
END:VCALENDAR
