BEGIN:VCALENDAR
VERSION:2.0
PRODID:-//OmniMagnetCalendar//EN
BEGIN:VEVENT
DTSTAMP:20190625T195740Z
STATUS:CONFIRMED
UID:hcstlouis.clubs.harvard.edu225
DTSTART:20180119T000000Z
DTEND:20180119T020000Z
LOCATION:Ritz-Carlton, 100 Carondelet Plaza, Clayton, MPO, 63105,
SUMMARY:All-Ivy Event: Ben's Birthday Bash
DESCRIPTION:
BEGIN:VALARM
TRIGGER:-PT15M
ACTION:DISPLAY
END:VALARM
TRANSP:OPAQUE
END:VEVENT
END:VCALENDAR
