BEGIN:VCALENDAR
VERSION:2.0
PRODID:-//OmniMagnetCalendar//EN
BEGIN:VEVENT
DTSTAMP:20190625T195740Z
STATUS:CONFIRMED
UID:hcstlouis.clubs.harvard.edu222
DTSTART:20180110T000000Z
DTEND:20180110T020000Z
LOCATION:Venture Cafe at the Cortex, 4320 Forest Park Ave., Saint Louis, MO, 63108,
SUMMARY:Harvard Alumni Association Global Networking Night
DESCRIPTION:
BEGIN:VALARM
TRIGGER:-PT15M
ACTION:DISPLAY
END:VALARM
TRANSP:OPAQUE
END:VEVENT
END:VCALENDAR
