BEGIN:VCALENDAR
VERSION:2.0
PRODID:-//OmniMagnetCalendar//EN
BEGIN:VEVENT
DTSTAMP:20190625T195740Z
STATUS:CONFIRMED
UID:hcstlouis.clubs.harvard.edu221
DTSTART:20180225T180000Z
DTEND:20180225T200000Z
LOCATION:Mandarin House Banquet Hall, 8004 Olive Blvd., Saint Louis, MO, 63130,
SUMMARY:2018 Asian Lunar New Year
DESCRIPTION:
BEGIN:VALARM
TRIGGER:-PT15M
ACTION:DISPLAY
END:VALARM
TRANSP:OPAQUE
END:VEVENT
END:VCALENDAR
