BEGIN:VCALENDAR
VERSION:2.0
PRODID:-//OmniMagnetCalendar//EN
BEGIN:VEVENT
DTSTAMP:20190625T195740Z
STATUS:CONFIRMED
UID:hcstlouis.clubs.harvard.edu217
DTSTART:20171118T170000Z
DTEND:20171118T200000Z
LOCATION:Schneithorst's, 1600 S. Lindbergh, Saint Louis, MO, 63131, USA,
SUMMARY:The GAME!  Nov. 18th!
DESCRIPTION:Join us at Schneithorst's for the 133rd playing of the Harvard-Yale football game!
BEGIN:VALARM
TRIGGER:-PT15M
ACTION:DISPLAY
END:VALARM
TRANSP:OPAQUE
END:VEVENT
END:VCALENDAR
