BEGIN:VCALENDAR
VERSION:2.0
PRODID:-//OmniMagnetCalendar//EN
BEGIN:VEVENT
DTSTAMP:20190625T195740Z
STATUS:CONFIRMED
UID:hcstlouis.clubs.harvard.edu195
DTSTART:20160428T130000Z
DTEND:20160428T143000Z
LOCATION:1533 Washington Avenue, Saint Louis, MO, 63103,
SUMMARY:All-Ivy "Interactive Breakfast" with Eric T. Johnson - April 28
DESCRIPTION:
BEGIN:VALARM
TRIGGER:-PT15M
ACTION:DISPLAY
END:VALARM
TRANSP:OPAQUE
END:VEVENT
END:VCALENDAR
