BEGIN:VCALENDAR
VERSION:2.0
PRODID:-//OmniMagnetCalendar//EN
BEGIN:VEVENT
DTSTAMP:20190625T195740Z
STATUS:CONFIRMED
UID:hcstlouis.clubs.harvard.edu194
DTSTART:20160409T150000Z
DTEND:20160409T160000Z
LOCATION:Marcoot Jersey Creamery, 526 Dudleyville Road, Greenville, IL, 62246,
SUMMARY:Harvard Club at Marcoot Jersey Creamery - April 9
DESCRIPTION:
BEGIN:VALARM
TRIGGER:-PT15M
ACTION:DISPLAY
END:VALARM
TRANSP:OPAQUE
END:VEVENT
END:VCALENDAR
